BEGIN:VCALENDAR
VERSION:2.0
PRODID:spatie/icalendar-generator
DESCRIPTION:Veranstaltungen von Deutscher Baseball- und Softballverband e.V
 .
X-WR-CALDESC:Veranstaltungen von Deutscher Baseball- und Softballverband e.
 V.
REFRESH-INTERVAL;VALUE=DURATION:PT1440M
X-PUBLISHED-TTL:PT1440M
BEGIN:VTIMEZONE
TZID:Europe/Berlin
BEGIN:STANDARD
DTSTART:20251026T030000Z
TZOFFSETFROM:+0200
TZOFFSETTO:+0100
END:STANDARD
BEGIN:DAYLIGHT
DTSTART:20260329T020000Z
TZOFFSETFROM:+0100
TZOFFSETTO:+0200
END:DAYLIGHT
BEGIN:STANDARD
DTSTART:20261025T030000Z
TZOFFSETFROM:+0200
TZOFFSETTO:+0100
END:STANDARD
END:VTIMEZONE
BEGIN:VTIMEZONE
TZID:UTC
BEGIN:STANDARD
DTSTART:20250728T173436Z
TZOFFSETFROM:+0000
TZOFFSETTO:+0000
END:STANDARD
END:VTIMEZONE
BEGIN:VEVENT
UID:146-98
DTSTAMP:20260424T173436Z
SUMMARY:18U Palomino - Softball European Qualifier
LOCATION:Stuttgart   Stuttgart
ORGANIZER;CN=m_essers:MAILTO:essers@baseball-softball.de
DTSTART;TZID=Europe/Berlin;VALUE=DATE:20260429
DTEND;TZID=Europe/Berlin;VALUE=DATE:20260503
X-ALT-DESC;FMTTYPE=TEXT/HTML:
CATEGORIES:NM SB FP U18
URL;VALUE=URI:https://www.baseball-softball.de/mc-events/18u-palomino-softb
 all-european-qualifier/
METHOD:PUBLISH
END:VEVENT
BEGIN:VEVENT
UID:146-98
DTSTAMP:20260424T173436Z
SUMMARY:18U Palomino - Softball European Qualifier
LOCATION:Stuttgart   Stuttgart
ORGANIZER;CN=m_essers:MAILTO:essers@baseball-softball.de
DTSTART;TZID=Europe/Berlin;VALUE=DATE:20260429
DTEND;TZID=Europe/Berlin;VALUE=DATE:20260503
X-ALT-DESC;FMTTYPE=TEXT/HTML:
CATEGORIES:NM SB FP U18
URL;VALUE=URI:https://www.baseball-softball.de/mc-events/18u-palomino-softb
 all-european-qualifier/
METHOD:PUBLISH
END:VEVENT
BEGIN:VEVENT
UID:146-98
DTSTAMP:20260424T173436Z
SUMMARY:18U Palomino - Softball European Qualifier
LOCATION:Stuttgart   Stuttgart
ORGANIZER;CN=m_essers:MAILTO:essers@baseball-softball.de
DTSTART;TZID=Europe/Berlin;VALUE=DATE:20260429
DTEND;TZID=Europe/Berlin;VALUE=DATE:20260503
X-ALT-DESC;FMTTYPE=TEXT/HTML:
CATEGORIES:NM SB FP U18
URL;VALUE=URI:https://www.baseball-softball.de/mc-events/18u-palomino-softb
 all-european-qualifier/
METHOD:PUBLISH
END:VEVENT
BEGIN:VEVENT
UID:146-98
DTSTAMP:20260424T173436Z
SUMMARY:18U Palomino - Softball European Qualifier
LOCATION:Stuttgart   Stuttgart
ORGANIZER;CN=m_essers:MAILTO:essers@baseball-softball.de
DTSTART;TZID=Europe/Berlin;VALUE=DATE:20260429
DTEND;TZID=Europe/Berlin;VALUE=DATE:20260503
X-ALT-DESC;FMTTYPE=TEXT/HTML:
CATEGORIES:NM SB FP U18
URL;VALUE=URI:https://www.baseball-softball.de/mc-events/18u-palomino-softb
 all-european-qualifier/
METHOD:PUBLISH
END:VEVENT
END:VCALENDAR